BEGIN:VCALENDAR
VERSION:2.0
PRODID:-//Ecole Municipale de Musique et de Danse du Thor - ECPv6.15.17.1//NONSGML v1.0//EN
CALSCALE:GREGORIAN
METHOD:PUBLISH
X-WR-CALNAME:Ecole Municipale de Musique et de Danse du Thor
X-ORIGINAL-URL:https://edmdlethor.com
X-WR-CALDESC:Évènements pour Ecole Municipale de Musique et de Danse du Thor
REFRESH-INTERVAL;VALUE=DURATION:PT1H
X-Robots-Tag:noindex
X-PUBLISHED-TTL:PT1H
BEGIN:VTIMEZONE
TZID:Europe/Paris
BEGIN:DAYLIGHT
TZOFFSETFROM:+0100
TZOFFSETTO:+0200
TZNAME:CEST
DTSTART:20240331T010000
END:DAYLIGHT
BEGIN:STANDARD
TZOFFSETFROM:+0200
TZOFFSETTO:+0100
TZNAME:CET
DTSTART:20241027T010000
END:STANDARD
BEGIN:DAYLIGHT
TZOFFSETFROM:+0100
TZOFFSETTO:+0200
TZNAME:CEST
DTSTART:20250330T010000
END:DAYLIGHT
BEGIN:STANDARD
TZOFFSETFROM:+0200
TZOFFSETTO:+0100
TZNAME:CET
DTSTART:20251026T010000
END:STANDARD
BEGIN:DAYLIGHT
TZOFFSETFROM:+0100
TZOFFSETTO:+0200
TZNAME:CEST
DTSTART:20260329T010000
END:DAYLIGHT
BEGIN:STANDARD
TZOFFSETFROM:+0200
TZOFFSETTO:+0100
TZNAME:CET
DTSTART:20261025T010000
END:STANDARD
END:VTIMEZONE
BEGIN:VEVENT
DTSTART;TZID=Europe/Paris:20250603T190000
DTEND;TZID=Europe/Paris:20250603T203000
DTSTAMP:20260419T195835
CREATED:20250515T085808Z
LAST-MODIFIED:20250520T091839Z
UID:3542-1748977200-1748982600@edmdlethor.com
SUMMARY:Spectacle Chateau de Thouzon - Le Thor 3 Juin
DESCRIPTION:Spectacle concert de l’Harmonie départementale et des élèves de l’école de la Passerelle (Le Thor)\nDirection Pascal Tramier \n19h au Chateau de Thouzon \nLa légende de Thouzon\nCréation musicale fruit d’un partenariat entre l’école de La Passerelle et l’école de musique et de danse du Thor:\nLes textes ont été créés par les élèves de Pauline Boaglio et de tous les professeurs de l’école de La Passerelle)\nLes arrangements musicaux par les élèves des classes de formation musicale de 2ème Cycle de Pascal Tramier de l’école de musique.
URL:https://edmdlethor.com/evenement/spectacle-chateau-de-thouzon-le-thor/
LOCATION:Chateau de Thouzon\, Le Thor\, France
CATEGORIES:Harmonie Départementale du Vaucluse,Rencontre Musicale,spectacle
END:VEVENT
BEGIN:VEVENT
DTSTART;TZID=Europe/Paris:20250605T180000
DTEND;TZID=Europe/Paris:20250605T193000
DTSTAMP:20260419T195835
CREATED:20250515T092401Z
LAST-MODIFIED:20250515T093011Z
UID:3548-1749146400-1749151800@edmdlethor.com
SUMMARY:Concert Pédagogique Quatuor Girard 5 Juin
DESCRIPTION:Concert Pédagogique 18h Salle du Conseil Mairie du Thor\nLe quatuor Girard (lien ici) débute son partenariat avec notre école. \nConcert pédagogique (explication d’une œuvre jouée en direct\, cf les concerts pédagogiques de L.Bernstein\, W.Marsalis\, Jf Zygel etc… ) à destination de nos classes de formation musicale. \nIl concerne les élèves de formation musicale et leurs parents\, mais est ouvert à tous les élèves et enseignants qui souhaitent y venir. Attention cependant au fait que la salle ne peut accueillir plus de 100 personnes.\nLes cours de Fm du jeudi 5 juin de Pascal Tramier et Allison Nosal sont prioritaires.
URL:https://edmdlethor.com/evenement/concert-pedagogique-quatuor-girard/
LOCATION:Salle du Conseil Mairie de Le Thor\, Mairie de Le Thor\, Le Thor\, Vaucluse\, France
CATEGORIES:Rencontre Musicale,spectacle
END:VEVENT
BEGIN:VEVENT
DTSTART;TZID=Europe/Paris:20250606T160000
DTEND;TZID=Europe/Paris:20250606T193000
DTSTAMP:20260419T195835
CREATED:20250515T092941Z
LAST-MODIFIED:20250515T092941Z
UID:3554-1749225600-1749238200@edmdlethor.com
SUMMARY:Concert Audition Parc des Estourans 6 Juin
DESCRIPTION:Concert-représentation de divers ensembles de musique et de danse de l’école.\nLe 6 Juin au parc des estourans\, Le Thor de 18h à 19h30.
URL:https://edmdlethor.com/evenement/concert-audition-parc-des-estourans-6-juin/
LOCATION:Parc des Estourans Le Thor\, Chemin des Estourans 84250 Le Thor\, Le Thor\, Vaucluse\, 84250\, France
CATEGORIES:Audition,spectacle
END:VEVENT
BEGIN:VEVENT
DTSTART;TZID=Europe/Paris:20250610T080000
DTEND;TZID=Europe/Paris:20251016T170000
DTSTAMP:20260419T195835
CREATED:20250610T095030Z
LAST-MODIFIED:20250610T095030Z
UID:3675-1749542400-1760634000@edmdlethor.com
SUMMARY:Danse Hip Hop - Nouveauté
DESCRIPTION:Cette année scolaire 2025 2026 l’école proposera des cours de danse Hip Hop\nDeux cours proposés\, 10/13 ans et plus de 14 ans \nRenseignements au secrétariat de l’école \nAffiche Hip Hop cours le Thor
URL:https://edmdlethor.com/evenement/danse-hip-hop-nouveaute/
LOCATION:ecole municipale de musique et de danse le Thor\, Chemin des estourans\, Le Thor\, Vaucluse\, 84250\, France
CATEGORIES:Inscriptions
END:VEVENT
BEGIN:VEVENT
DTSTART;TZID=Europe/Paris:20250611T193000
DTEND;TZID=Europe/Paris:20250611T210000
DTSTAMP:20260419T195835
CREATED:20250515T093459Z
LAST-MODIFIED:20250515T093459Z
UID:3558-1749670200-1749675600@edmdlethor.com
SUMMARY:Spectacle Musique - Auditorium Le Thor 11 Juin
DESCRIPTION:Spectacle des classes de musiques sur le thème « musiques du Monde » à 19h30\nAvec les classes de musique de l’école municipale \nEntrée du public à partir de 19h
URL:https://edmdlethor.com/evenement/spectacle-musique-auditorium-le-thor-11-juin/
LOCATION:Auditorium Jean Moulin\, Chemin des Estourans Le Thor\, Le Thor
END:VEVENT
BEGIN:VEVENT
DTSTART;TZID=Europe/Paris:20250614T093000
DTEND;TZID=Europe/Paris:20250614T120000
DTSTAMP:20260419T195835
CREATED:20250515T093723Z
LAST-MODIFIED:20250515T093723Z
UID:3560-1749893400-1749902400@edmdlethor.com
SUMMARY:Portes ouvertes 14 Juin
DESCRIPTION:Samedi 14 juin « portes ouvertes » 9h30-12h\nVenez découvrir notre école et rencontrer les enseignants
URL:https://edmdlethor.com/evenement/portes-ouvertes-14-juin/
LOCATION:Ecole de musique et danse du Thor Extérieur\, 971 Chemin des estourans\, Le Thor\, 84250\, France
CATEGORIES:Audition,Information,Inscriptions
END:VEVENT
BEGIN:VEVENT
DTSTART;TZID=Europe/Paris:20250618T143000
DTEND;TZID=Europe/Paris:20250618T160000
DTSTAMP:20260419T195835
CREATED:20250515T094238Z
LAST-MODIFIED:20250515T094656Z
UID:3562-1750257000-1750262400@edmdlethor.com
SUMMARY:Représentation Ehpad Le Thor 18 Juin
DESCRIPTION:L’orchestre de Pascal Tramier se produira à l’Ehpad du Thor\nAvec la participation de diverses classes instrumentales à destination de nos Ainés\, à partir de 14h30
URL:https://edmdlethor.com/evenement/representation-ehpad-le-thor-18-juin/
LOCATION:Ehpad les Cigales\, 41 rue Voltaire\, Le Thor\, Vaucluse\, 84250\, France
CATEGORIES:Audition,Rencontre Musicale
END:VEVENT
BEGIN:VEVENT
DTSTART;TZID=Europe/Paris:20250620T080000
DTEND;TZID=Europe/Paris:20251030T170000
DTSTAMP:20260419T195835
CREATED:20250620T152501Z
LAST-MODIFIED:20250620T152501Z
UID:3770-1750406400-1761843600@edmdlethor.com
SUMMARY:Nouveauté Ensemble Vocal Unplugged (Rock and more\, Acoustique)
DESCRIPTION:Création de l’ensemble vocal Unplugged\nRépertoire Rock and More en version acoustique\, direction Anne Morata \nAffiche ici
URL:https://edmdlethor.com/evenement/nouveaute-ensemble-vocal-unplugged-rock-and-more-acoustique/
LOCATION:ecole municipale de musique et de danse le Thor\, Chemin des estourans\, Le Thor\, Vaucluse\, 84250\, France
END:VEVENT
BEGIN:VEVENT
DTSTART;TZID=Europe/Paris:20250620T193000
DTEND;TZID=Europe/Paris:20250620T210000
DTSTAMP:20260419T195835
CREATED:20250515T094613Z
LAST-MODIFIED:20250515T094613Z
UID:3566-1750447800-1750453200@edmdlethor.com
SUMMARY:Gala de Danse 20 Juin
DESCRIPTION:Spectacle des classes de danse sur le Théme « Héroines » 19h30\nClasses de danse classique et Jazz – Joselyn Cabarcos et Coraldine Zaina entrée du public à partir de 19h
URL:https://edmdlethor.com/evenement/gala-de-danse-20-juin/
LOCATION:Auditorium Jean Moulin\, Chemin des Estourans Le Thor\, Le Thor
CATEGORIES:spectacle
END:VEVENT
BEGIN:VEVENT
DTSTART;TZID=Europe/Paris:20250625T180000
DTEND;TZID=Europe/Paris:20250625T190000
DTSTAMP:20260419T195835
CREATED:20250519T133246Z
LAST-MODIFIED:20250519T133246Z
UID:3576-1750874400-1750878000@edmdlethor.com
SUMMARY:Concert Musiques Actuelles 25 Juin
DESCRIPTION:Le Concert des classes de Jacques Berbiguier en plein air !\nConcert en plein air à l’école municipale de musique et de danse
URL:https://edmdlethor.com/evenement/concert-musiques-actuelles-25-juin/
LOCATION:Ecole de musique et danse du Thor Extérieur\, 971 Chemin des estourans\, Le Thor\, 84250\, France
CATEGORIES:Audition,spectacle
END:VEVENT
END:VCALENDAR