BEGIN:VCALENDAR
VERSION:2.0
PRODID:-//Ecole Municipale de Musique et de Danse du Thor - ECPv6.15.17.1//NONSGML v1.0//EN
CALSCALE:GREGORIAN
METHOD:PUBLISH
X-ORIGINAL-URL:https://edmdlethor.com
X-WR-CALDESC:Évènements pour Ecole Municipale de Musique et de Danse du Thor
REFRESH-INTERVAL;VALUE=DURATION:PT1H
X-Robots-Tag:noindex
X-PUBLISHED-TTL:PT1H
BEGIN:VTIMEZONE
TZID:Europe/Paris
BEGIN:DAYLIGHT
TZOFFSETFROM:+0100
TZOFFSETTO:+0200
TZNAME:CEST
DTSTART:20220327T010000
END:DAYLIGHT
BEGIN:STANDARD
TZOFFSETFROM:+0200
TZOFFSETTO:+0100
TZNAME:CET
DTSTART:20221030T010000
END:STANDARD
BEGIN:DAYLIGHT
TZOFFSETFROM:+0100
TZOFFSETTO:+0200
TZNAME:CEST
DTSTART:20230326T010000
END:DAYLIGHT
BEGIN:STANDARD
TZOFFSETFROM:+0200
TZOFFSETTO:+0100
TZNAME:CET
DTSTART:20231029T010000
END:STANDARD
BEGIN:DAYLIGHT
TZOFFSETFROM:+0100
TZOFFSETTO:+0200
TZNAME:CEST
DTSTART:20240331T010000
END:DAYLIGHT
BEGIN:STANDARD
TZOFFSETFROM:+0200
TZOFFSETTO:+0100
TZNAME:CET
DTSTART:20241027T010000
END:STANDARD
END:VTIMEZONE
BEGIN:VEVENT
DTSTART;TZID=Europe/Paris:20231208T190000
DTEND;TZID=Europe/Paris:20231208T210000
DTSTAMP:20260421T225833
CREATED:20231113T135958Z
LAST-MODIFIED:20231113T135958Z
UID:3128-1702062000-1702069200@edmdlethor.com
SUMMARY:Spectacle Noël 8 Déc 19h30
DESCRIPTION:Représentation des classes de l’école départementale de musique et de danse\nAuditorium Jean Moulin (le Thor) \nDébut du spectacle à 19H30\, entrée du public à partir de 19h. \nRéservation au secrétariat de l’école ou par téléphone (0490338636).
URL:https://edmdlethor.com/evenement/spectacle-noel-8-dec-19h30/
LOCATION:Auditorium Jean Moulin\, Chemin des Estourans Le Thor\, Le Thor
CATEGORIES:Audition
END:VEVENT
END:VCALENDAR