BEGIN:VCALENDAR
VERSION:2.0
PRODID:-//Ecole Municipale de Musique et de Danse du Thor - ECPv6.15.17.1//NONSGML v1.0//EN
CALSCALE:GREGORIAN
METHOD:PUBLISH
X-ORIGINAL-URL:https://edmdlethor.com
X-WR-CALDESC:Évènements pour Ecole Municipale de Musique et de Danse du Thor
REFRESH-INTERVAL;VALUE=DURATION:PT1H
X-Robots-Tag:noindex
X-PUBLISHED-TTL:PT1H
BEGIN:VTIMEZONE
TZID:Europe/Paris
BEGIN:DAYLIGHT
TZOFFSETFROM:+0100
TZOFFSETTO:+0200
TZNAME:CEST
DTSTART:20220327T010000
END:DAYLIGHT
BEGIN:STANDARD
TZOFFSETFROM:+0200
TZOFFSETTO:+0100
TZNAME:CET
DTSTART:20221030T010000
END:STANDARD
BEGIN:DAYLIGHT
TZOFFSETFROM:+0100
TZOFFSETTO:+0200
TZNAME:CEST
DTSTART:20230326T010000
END:DAYLIGHT
BEGIN:STANDARD
TZOFFSETFROM:+0200
TZOFFSETTO:+0100
TZNAME:CET
DTSTART:20231029T010000
END:STANDARD
BEGIN:DAYLIGHT
TZOFFSETFROM:+0100
TZOFFSETTO:+0200
TZNAME:CEST
DTSTART:20240331T010000
END:DAYLIGHT
BEGIN:STANDARD
TZOFFSETFROM:+0200
TZOFFSETTO:+0100
TZNAME:CET
DTSTART:20241027T010000
END:STANDARD
END:VTIMEZONE
BEGIN:VEVENT
DTSTART;TZID=Europe/Paris:20230315T190000
DTEND;TZID=Europe/Paris:20230315T210000
DTSTAMP:20260422T123452
CREATED:20230313T130708Z
LAST-MODIFIED:20230313T130708Z
UID:2813-1678906800-1678914000@edmdlethor.com
SUMMARY:Spectacle musiques actuelles 15 Mars
DESCRIPTION:Spectacle des classes de musiques actuelles dirigées par Jacques Berbiguier\n  \nDébut 19h à l’auditorium Jean Moulin\n  \nmusiques actuelles 15 mars
URL:https://edmdlethor.com/evenement/spectacle-musiques-actuelles-15-mars/
LOCATION:Auditorium Jean Moulin\, Chemin des Estourans Le Thor\, Le Thor
CATEGORIES:Audition,spectacle
END:VEVENT
END:VCALENDAR