BEGIN:VCALENDAR
VERSION:2.0
PRODID:-//Ecole Municipale de Musique et de Danse du Thor - ECPv6.15.17.1//NONSGML v1.0//EN
CALSCALE:GREGORIAN
METHOD:PUBLISH
X-ORIGINAL-URL:https://edmdlethor.com
X-WR-CALDESC:Évènements pour Ecole Municipale de Musique et de Danse du Thor
REFRESH-INTERVAL;VALUE=DURATION:PT1H
X-Robots-Tag:noindex
X-PUBLISHED-TTL:PT1H
BEGIN:VTIMEZONE
TZID:Europe/Paris
BEGIN:DAYLIGHT
TZOFFSETFROM:+0100
TZOFFSETTO:+0200
TZNAME:CEST
DTSTART:20210328T010000
END:DAYLIGHT
BEGIN:STANDARD
TZOFFSETFROM:+0200
TZOFFSETTO:+0100
TZNAME:CET
DTSTART:20211031T010000
END:STANDARD
BEGIN:DAYLIGHT
TZOFFSETFROM:+0100
TZOFFSETTO:+0200
TZNAME:CEST
DTSTART:20220327T010000
END:DAYLIGHT
BEGIN:STANDARD
TZOFFSETFROM:+0200
TZOFFSETTO:+0100
TZNAME:CET
DTSTART:20221030T010000
END:STANDARD
BEGIN:DAYLIGHT
TZOFFSETFROM:+0100
TZOFFSETTO:+0200
TZNAME:CEST
DTSTART:20230326T010000
END:DAYLIGHT
BEGIN:STANDARD
TZOFFSETFROM:+0200
TZOFFSETTO:+0100
TZNAME:CET
DTSTART:20231029T010000
END:STANDARD
END:VTIMEZONE
BEGIN:VEVENT
DTSTART;TZID=Europe/Paris:20221216T190000
DTEND;TZID=Europe/Paris:20221216T203000
DTSTAMP:20260422T171925
CREATED:20221211T124720Z
LAST-MODIFIED:20221211T124720Z
UID:2811-1671217200-1671222600@edmdlethor.com
SUMMARY:Spectacle de fin d'année 16 décembre Auditorium 19h
DESCRIPTION:Spectacle de fin d’année\nSpectacles des différents ensembles de l’école de musique et de danse à l’auditorium du Thor. \nEntrée du public 18h30 début du spectacle 19h
URL:https://edmdlethor.com/evenement/spectacle-de-fin-dannee-16-decembre-auditorium-19h/
LOCATION:Auditorium Jean Moulin\, Chemin des Estourans Le Thor\, Le Thor
CATEGORIES:Audition,spectacle
END:VEVENT
END:VCALENDAR