BEGIN:VCALENDAR
VERSION:2.0
PRODID:-//Ecole Municipale de Musique et de Danse du Thor - ECPv6.15.17.1//NONSGML v1.0//EN
CALSCALE:GREGORIAN
METHOD:PUBLISH
X-WR-CALNAME:Ecole Municipale de Musique et de Danse du Thor
X-ORIGINAL-URL:https://edmdlethor.com
X-WR-CALDESC:Évènements pour Ecole Municipale de Musique et de Danse du Thor
REFRESH-INTERVAL;VALUE=DURATION:PT1H
X-Robots-Tag:noindex
X-PUBLISHED-TTL:PT1H
BEGIN:VTIMEZONE
TZID:Europe/Paris
BEGIN:DAYLIGHT
TZOFFSETFROM:+0100
TZOFFSETTO:+0200
TZNAME:CEST
DTSTART:20200329T010000
END:DAYLIGHT
BEGIN:STANDARD
TZOFFSETFROM:+0200
TZOFFSETTO:+0100
TZNAME:CET
DTSTART:20201025T010000
END:STANDARD
BEGIN:DAYLIGHT
TZOFFSETFROM:+0100
TZOFFSETTO:+0200
TZNAME:CEST
DTSTART:20210328T010000
END:DAYLIGHT
BEGIN:STANDARD
TZOFFSETFROM:+0200
TZOFFSETTO:+0100
TZNAME:CET
DTSTART:20211031T010000
END:STANDARD
BEGIN:DAYLIGHT
TZOFFSETFROM:+0100
TZOFFSETTO:+0200
TZNAME:CEST
DTSTART:20220327T010000
END:DAYLIGHT
BEGIN:STANDARD
TZOFFSETFROM:+0200
TZOFFSETTO:+0100
TZNAME:CET
DTSTART:20221030T010000
END:STANDARD
END:VTIMEZONE
BEGIN:VEVENT
DTSTART;TZID=Europe/Paris:20210831T093000
DTEND;TZID=Europe/Paris:20210908T183000
DTSTAMP:20260423T170940
CREATED:20210713T100241Z
LAST-MODIFIED:20210831T075934Z
UID:2331-1630402200-1631125800@edmdlethor.com
SUMMARY:Période Inscriptions de Septembre 2021
DESCRIPTION:Deuxième période d’inscriptions en septembre.\nLa deuxième période d’inscriptions à l’école départementale de musique et de danse aura lieu les: 31/08 – 1/09 – 2/09 – 7/09 – 8/09 de 9.30 à 18.30 \nRendez vous sur la page inscriptions pour plus de détails cliquez ici \n 
URL:https://edmdlethor.com/evenement/periode-inscriptions-de-septembre-2021/
LOCATION:Ecole départementale de musique et danse du Thor\, Chemin des estourans\, Le Thor\, 84250\, France Métropolitaine
CATEGORIES:Information,Inscriptions
END:VEVENT
BEGIN:VEVENT
DTSTART;TZID=Europe/Paris:20210904T093000
DTEND;TZID=Europe/Paris:20210904T163000
DTSTAMP:20260423T170940
CREATED:20210713T100715Z
LAST-MODIFIED:20210713T100715Z
UID:2333-1630747800-1630773000@edmdlethor.com
SUMMARY:Forum des associations Le Thor 4 Septembre
DESCRIPTION:École de musique et de danse au Forum des associations\nL’école sera présente au forum des associations le 4 septembre 2021\, possibilité de rencontrer les professeurs et de prendre des renseignements.
URL:https://edmdlethor.com/evenement/forum-des-associations-le-thor-4-septembre/
LOCATION:Forum des associations Le Thor\, Le Thor\, Vaucluse\, 84250\, France
CATEGORIES:Information,Inscriptions
END:VEVENT
BEGIN:VEVENT
DTSTART;TZID=Europe/Paris:20210913T080000
DTEND;TZID=Europe/Paris:20210913T170000
DTSTAMP:20260423T170940
CREATED:20210713T100856Z
LAST-MODIFIED:20210713T100856Z
UID:2336-1631520000-1631552400@edmdlethor.com
SUMMARY:Reprise des cours le 13 Septembre
DESCRIPTION:Reprise des cours de musique et de danse le 13 Septembre
URL:https://edmdlethor.com/evenement/reprise-des-cours-le-13-septembre/
LOCATION:Ecole départementale de musique et danse du Thor\, Chemin des estourans\, Le Thor\, 84250\, France Métropolitaine
END:VEVENT
END:VCALENDAR