BEGIN:VCALENDAR
VERSION:2.0
PRODID:-//Ecole Municipale de Musique et de Danse du Thor - ECPv6.15.17.1//NONSGML v1.0//EN
CALSCALE:GREGORIAN
METHOD:PUBLISH
X-ORIGINAL-URL:https://edmdlethor.com
X-WR-CALDESC:Évènements pour Ecole Municipale de Musique et de Danse du Thor
REFRESH-INTERVAL;VALUE=DURATION:PT1H
X-Robots-Tag:noindex
X-PUBLISHED-TTL:PT1H
BEGIN:VTIMEZONE
TZID:Europe/Paris
BEGIN:DAYLIGHT
TZOFFSETFROM:+0100
TZOFFSETTO:+0200
TZNAME:CEST
DTSTART:20200329T010000
END:DAYLIGHT
BEGIN:STANDARD
TZOFFSETFROM:+0200
TZOFFSETTO:+0100
TZNAME:CET
DTSTART:20201025T010000
END:STANDARD
BEGIN:DAYLIGHT
TZOFFSETFROM:+0100
TZOFFSETTO:+0200
TZNAME:CEST
DTSTART:20210328T010000
END:DAYLIGHT
BEGIN:STANDARD
TZOFFSETFROM:+0200
TZOFFSETTO:+0100
TZNAME:CET
DTSTART:20211031T010000
END:STANDARD
BEGIN:DAYLIGHT
TZOFFSETFROM:+0100
TZOFFSETTO:+0200
TZNAME:CEST
DTSTART:20220327T010000
END:DAYLIGHT
BEGIN:STANDARD
TZOFFSETFROM:+0200
TZOFFSETTO:+0100
TZNAME:CET
DTSTART:20221030T010000
END:STANDARD
END:VTIMEZONE
BEGIN:VEVENT
DTSTART;TZID=Europe/Paris:20210619T093000
DTEND;TZID=Europe/Paris:20210619T123000
DTSTAMP:20260423T214624
CREATED:20210520T154633Z
LAST-MODIFIED:20210616T163456Z
UID:2103-1624095000-1624105800@edmdlethor.com
SUMMARY:Matinée portes ouvertes 19 Juin 9h30 12h30
DESCRIPTION:Matinée portes ouvertes\nPour découvrir les activités de l’école et rencontrer les professeurs de musique et de danse\, de 9h30 à 12h30 à l’école.
URL:https://edmdlethor.com/evenement/matinee-portes-ouvertes-19-juin-9h30-12h30/
LOCATION:Ecole de musique et danse du Thor Extérieur\, 971 Chemin des estourans\, Le Thor\, 84250\, France
CATEGORIES:Audition,Inscriptions
END:VEVENT
BEGIN:VEVENT
DTSTART;TZID=Europe/Paris:20210619T180000
DTEND;TZID=Europe/Paris:20210619T193000
DTSTAMP:20260423T214624
CREATED:20210520T152452Z
LAST-MODIFIED:20210520T152452Z
UID:2100-1624125600-1624131000@edmdlethor.com
SUMMARY:Fête de la musique 19 Juin 18h
DESCRIPTION:Représentation Musique et danse de L’École Départementale de Musique et de Danse\nAu parc des Estourans dés 18h\, restauration possible sur place. \nLa prestation des élèves sera suivie par une soirée organisée par le comité des fêtes du Thor avec l’orchestre/ groupe de Laurent Comtat
URL:https://edmdlethor.com/evenement/fete-de-la-musique-19-juin-18h/
LOCATION:Parc des Estourans Le Thor\, Chemin des Estourans 84250 Le Thor\, Le Thor\, Vaucluse\, 84250\, France
END:VEVENT
BEGIN:VEVENT
DTSTART;TZID=Europe/Paris:20210626T140000
DTEND;TZID=Europe/Paris:20210626T180000
DTSTAMP:20260423T214624
CREATED:20210520T155413Z
LAST-MODIFIED:20210520T155449Z
UID:2106-1624716000-1624730400@edmdlethor.com
SUMMARY:Captation Video des Classes de danse 26 Juin 14h/18h
DESCRIPTION:Captation Video des différentes classes de danse de l’école dans la salle de l’auditorium.\nClasses de Joselyn Cabarcos et Pascale Laugier
URL:https://edmdlethor.com/evenement/captation-classes-de-danse-26-juin-14h-18h/
LOCATION:Auditorium Jean Moulin\, Chemin des Estourans Le Thor\, Le Thor
CATEGORIES:Audition,spectacle
END:VEVENT
BEGIN:VEVENT
DTSTART;TZID=Europe/Paris:20210628T090000
DTEND;TZID=Europe/Paris:20210709T180000
DTSTAMP:20260423T214624
CREATED:20210607T125926Z
LAST-MODIFIED:20210607T125926Z
UID:2118-1624870800-1625853600@edmdlethor.com
SUMMARY:Première période d'inscription 28 Juin / 9 Juillet
DESCRIPTION:La première période d’inscription aura lieu du 28 Juin au 9 Juillet.\nLes inscriptions ont lieu en distanciel. Vous pouvez contacter l’école par email: \nedm.lethor.secretariat@orange.fr \nOu au: 0490338636
URL:https://edmdlethor.com/evenement/premiere-periode-dinscription-28-juin-9-juillet/
LOCATION:Ecole départementale de musique et danse du Thor\, Chemin des estourans\, Le Thor\, 84250\, France Métropolitaine
CATEGORIES:Inscriptions
END:VEVENT
END:VCALENDAR