BEGIN:VCALENDAR
VERSION:2.0
PRODID:-//Ecole Municipale de Musique et de Danse du Thor - ECPv6.15.17.1//NONSGML v1.0//EN
CALSCALE:GREGORIAN
METHOD:PUBLISH
X-WR-CALNAME:Ecole Municipale de Musique et de Danse du Thor
X-ORIGINAL-URL:https://edmdlethor.com
X-WR-CALDESC:Évènements pour Ecole Municipale de Musique et de Danse du Thor
REFRESH-INTERVAL;VALUE=DURATION:PT1H
X-Robots-Tag:noindex
X-PUBLISHED-TTL:PT1H
BEGIN:VTIMEZONE
TZID:Europe/Paris
BEGIN:DAYLIGHT
TZOFFSETFROM:+0100
TZOFFSETTO:+0200
TZNAME:CEST
DTSTART:20180325T010000
END:DAYLIGHT
BEGIN:STANDARD
TZOFFSETFROM:+0200
TZOFFSETTO:+0100
TZNAME:CET
DTSTART:20181028T010000
END:STANDARD
BEGIN:DAYLIGHT
TZOFFSETFROM:+0100
TZOFFSETTO:+0200
TZNAME:CEST
DTSTART:20190331T010000
END:DAYLIGHT
BEGIN:STANDARD
TZOFFSETFROM:+0200
TZOFFSETTO:+0100
TZNAME:CET
DTSTART:20191027T010000
END:STANDARD
BEGIN:DAYLIGHT
TZOFFSETFROM:+0100
TZOFFSETTO:+0200
TZNAME:CEST
DTSTART:20200329T010000
END:DAYLIGHT
BEGIN:STANDARD
TZOFFSETFROM:+0200
TZOFFSETTO:+0100
TZNAME:CET
DTSTART:20201025T010000
END:STANDARD
END:VTIMEZONE
BEGIN:VEVENT
DTSTART;TZID=Europe/Paris:20191206T190000
DTEND;TZID=Europe/Paris:20191206T200000
DTSTAMP:20260425T022534
CREATED:20191125T141134Z
LAST-MODIFIED:20191125T142133Z
UID:1436-1575658800-1575662400@edmdlethor.com
SUMMARY:Concert Telethon Robion 6 Décembre 19h
DESCRIPTION:Concert en faveur du Telethon à Robion 6 Décembre\nAvec la participation des Classes de danse de Jocelyn Cabarcos et de musiques actuelles de Jacques Berbiguier. \nSalle de L’Eden Robion
URL:https://edmdlethor.com/evenement/concert-telethon-robion-19h/
LOCATION:Salle de L’eden Robion\, 6 rue Antoine Gros\, Robion\, 84440\, France
CATEGORIES:Audition,spectacle
END:VEVENT
BEGIN:VEVENT
DTSTART;TZID=Europe/Paris:20191218T153000
DTEND;TZID=Europe/Paris:20191218T193000
DTSTAMP:20260425T022534
CREATED:20191125T141701Z
LAST-MODIFIED:20191125T142209Z
UID:1439-1576683000-1576697400@edmdlethor.com
SUMMARY:Spectacle de Noël 18 Décembre à partir de 15h30
DESCRIPTION:Concert de Noël\nSalle Pascal Tramier\, Althen des Paluds \nDifférentes interventions entre 15.30 et 17.30 puis entre 17.30 et 19.30 Voir Programme \nProgramme
URL:https://edmdlethor.com/evenement/spectacle-de-noel-15h30/
LOCATION:Salle Tramier\, 170 route de la Garance\, Althen des Paluds\, 84210\, France
CATEGORIES:Audition,spectacle
END:VEVENT
END:VCALENDAR