BEGIN:VCALENDAR
VERSION:2.0
PRODID:-//Ecole Municipale de Musique et de Danse du Thor - ECPv6.15.17.1//NONSGML v1.0//EN
CALSCALE:GREGORIAN
METHOD:PUBLISH
X-ORIGINAL-URL:https://edmdlethor.com
X-WR-CALDESC:Évènements pour Ecole Municipale de Musique et de Danse du Thor
REFRESH-INTERVAL;VALUE=DURATION:PT1H
X-Robots-Tag:noindex
X-PUBLISHED-TTL:PT1H
BEGIN:VTIMEZONE
TZID:Europe/Paris
BEGIN:DAYLIGHT
TZOFFSETFROM:+0100
TZOFFSETTO:+0200
TZNAME:CEST
DTSTART:20120325T010000
END:DAYLIGHT
BEGIN:STANDARD
TZOFFSETFROM:+0200
TZOFFSETTO:+0100
TZNAME:CET
DTSTART:20121028T010000
END:STANDARD
BEGIN:DAYLIGHT
TZOFFSETFROM:+0100
TZOFFSETTO:+0200
TZNAME:CEST
DTSTART:20130331T010000
END:DAYLIGHT
BEGIN:STANDARD
TZOFFSETFROM:+0200
TZOFFSETTO:+0100
TZNAME:CET
DTSTART:20131027T010000
END:STANDARD
BEGIN:DAYLIGHT
TZOFFSETFROM:+0100
TZOFFSETTO:+0200
TZNAME:CEST
DTSTART:20140330T010000
END:DAYLIGHT
BEGIN:STANDARD
TZOFFSETFROM:+0200
TZOFFSETTO:+0100
TZNAME:CET
DTSTART:20141026T010000
END:STANDARD
END:VTIMEZONE
BEGIN:VEVENT
DTSTART;TZID=Europe/Paris:20131120T150000
DTEND;TZID=Europe/Paris:20131120T163000
DTSTAMP:20260424T192612
CREATED:20130920T141944Z
LAST-MODIFIED:20130920T160236Z
UID:145-1384959600-1384965000@edmdlethor.com
SUMMARY:Audition Entr'arts Novembre
DESCRIPTION:Audition tous instruments\, tous niveaux à l’école de musique Salle 4.\nL’audition accueille tous les élèves de toutes les classes désirant jouer une pièce en cours d’acquisition\, en mesure d’être présentée devant un public. Les parents et les familles sont bienvenus pour encourager les élèves. \nÉlèves pris en charge par Pascal Tramier. Première partie de l’audition: Orchestre d’harmonie
URL:https://edmdlethor.com/evenement/audition-entrarts-novembre/
LOCATION:Ecole de Musique et de Danse Salle 4\, Ecole de Musique et de Danse 971 Chemin des Estourans\, Le Thor\, 84250\, France
END:VEVENT
END:VCALENDAR