BEGIN:VCALENDAR
VERSION:2.0
PRODID:-//Ecole Municipale de Musique et de Danse du Thor - ECPv6.15.17.1//NONSGML v1.0//EN
CALSCALE:GREGORIAN
METHOD:PUBLISH
X-ORIGINAL-URL:https://edmdlethor.com
X-WR-CALDESC:Évènements pour Ecole Municipale de Musique et de Danse du Thor
REFRESH-INTERVAL;VALUE=DURATION:PT1H
X-Robots-Tag:noindex
X-PUBLISHED-TTL:PT1H
BEGIN:VTIMEZONE
TZID:Europe/Paris
BEGIN:DAYLIGHT
TZOFFSETFROM:+0100
TZOFFSETTO:+0200
TZNAME:CEST
DTSTART:20170326T010000
END:DAYLIGHT
BEGIN:STANDARD
TZOFFSETFROM:+0200
TZOFFSETTO:+0100
TZNAME:CET
DTSTART:20171029T010000
END:STANDARD
BEGIN:DAYLIGHT
TZOFFSETFROM:+0100
TZOFFSETTO:+0200
TZNAME:CEST
DTSTART:20180325T010000
END:DAYLIGHT
BEGIN:STANDARD
TZOFFSETFROM:+0200
TZOFFSETTO:+0100
TZNAME:CET
DTSTART:20181028T010000
END:STANDARD
BEGIN:DAYLIGHT
TZOFFSETFROM:+0100
TZOFFSETTO:+0200
TZNAME:CEST
DTSTART:20190331T010000
END:DAYLIGHT
BEGIN:STANDARD
TZOFFSETFROM:+0200
TZOFFSETTO:+0100
TZNAME:CET
DTSTART:20191027T010000
END:STANDARD
END:VTIMEZONE
BEGIN:VEVENT
DTSTART;TZID=Europe/Paris:20180127T080000
DTEND;TZID=Europe/Paris:20180127T170000
DTSTAMP:20260422T125842
CREATED:20171016T132859Z
LAST-MODIFIED:20171016T132859Z
UID:1040-1517040000-1517072400@edmdlethor.com
SUMMARY:"Les Mains Réunies" Partenariat Piano avec Le conservatoire 27 Janvier
DESCRIPTION:Projet Piano « Les Mains Réunies » partenariat entre les classes de piano de l’école du Thor et du conservatoire.\nLe 27 Janvier Amphithéâtre Mozart CRR Avignon \nJoute Amicale Pianistique à 4 Mains Sponsorisée par CASIO élèves de CI et CII \n  \n 
URL:https://edmdlethor.com/evenement/les-mains-reunies-partenariat-piano-avec-le-conservatoire-27-janvier/
CATEGORIES:Rencontre Musicale
END:VEVENT
END:VCALENDAR