BEGIN:VCALENDAR
VERSION:2.0
PRODID:-//Ecole Municipale de Musique et de Danse du Thor - ECPv6.15.17.1//NONSGML v1.0//EN
CALSCALE:GREGORIAN
METHOD:PUBLISH
X-WR-CALNAME:Ecole Municipale de Musique et de Danse du Thor
X-ORIGINAL-URL:https://edmdlethor.com
X-WR-CALDESC:Évènements pour Ecole Municipale de Musique et de Danse du Thor
REFRESH-INTERVAL;VALUE=DURATION:PT1H
X-Robots-Tag:noindex
X-PUBLISHED-TTL:PT1H
BEGIN:VTIMEZONE
TZID:Europe/Paris
BEGIN:DAYLIGHT
TZOFFSETFROM:+0100
TZOFFSETTO:+0200
TZNAME:CEST
DTSTART:20160327T010000
END:DAYLIGHT
BEGIN:STANDARD
TZOFFSETFROM:+0200
TZOFFSETTO:+0100
TZNAME:CET
DTSTART:20161030T010000
END:STANDARD
BEGIN:DAYLIGHT
TZOFFSETFROM:+0100
TZOFFSETTO:+0200
TZNAME:CEST
DTSTART:20170326T010000
END:DAYLIGHT
BEGIN:STANDARD
TZOFFSETFROM:+0200
TZOFFSETTO:+0100
TZNAME:CET
DTSTART:20171029T010000
END:STANDARD
BEGIN:DAYLIGHT
TZOFFSETFROM:+0100
TZOFFSETTO:+0200
TZNAME:CEST
DTSTART:20180325T010000
END:DAYLIGHT
BEGIN:STANDARD
TZOFFSETFROM:+0200
TZOFFSETTO:+0100
TZNAME:CET
DTSTART:20181028T010000
END:STANDARD
END:VTIMEZONE
BEGIN:VEVENT
DTSTART;TZID=Europe/Paris:20170621T100000
DTEND;TZID=Europe/Paris:20170621T180000
DTSTAMP:20260422T234752
CREATED:20170619T124127Z
LAST-MODIFIED:20170619T160059Z
UID:957-1498039200-1498068000@edmdlethor.com
SUMMARY:Journée Portes Ouvertes 21 Juin
DESCRIPTION:Journée Portes Ouvertes\n  \nAuditions des ensembles et rencontre avec l’équipe Pédagogique et Administrative de 10h à 18h \nRenseignements au 0490338636 \nProgramme Cliquez ici \nFéte de l’école de Musique et Danse
URL:https://edmdlethor.com/evenement/journee-portes-ouvertes-21-juin/
CATEGORIES:Audition,Inscriptions,Rencontre Musicale
END:VEVENT
END:VCALENDAR