BEGIN:VCALENDAR
VERSION:2.0
PRODID:-//Ecole Municipale de Musique et de Danse du Thor - ECPv6.15.17.1//NONSGML v1.0//EN
CALSCALE:GREGORIAN
METHOD:PUBLISH
X-ORIGINAL-URL:https://edmdlethor.com
X-WR-CALDESC:Évènements pour Ecole Municipale de Musique et de Danse du Thor
REFRESH-INTERVAL;VALUE=DURATION:PT1H
X-Robots-Tag:noindex
X-PUBLISHED-TTL:PT1H
BEGIN:VTIMEZONE
TZID:Europe/Paris
BEGIN:DAYLIGHT
TZOFFSETFROM:+0100
TZOFFSETTO:+0200
TZNAME:CEST
DTSTART:20170326T010000
END:DAYLIGHT
BEGIN:STANDARD
TZOFFSETFROM:+0200
TZOFFSETTO:+0100
TZNAME:CET
DTSTART:20171029T010000
END:STANDARD
BEGIN:DAYLIGHT
TZOFFSETFROM:+0100
TZOFFSETTO:+0200
TZNAME:CEST
DTSTART:20180325T010000
END:DAYLIGHT
BEGIN:STANDARD
TZOFFSETFROM:+0200
TZOFFSETTO:+0100
TZNAME:CET
DTSTART:20181028T010000
END:STANDARD
BEGIN:DAYLIGHT
TZOFFSETFROM:+0100
TZOFFSETTO:+0200
TZNAME:CEST
DTSTART:20190331T010000
END:DAYLIGHT
BEGIN:STANDARD
TZOFFSETFROM:+0200
TZOFFSETTO:+0100
TZNAME:CET
DTSTART:20191027T010000
END:STANDARD
END:VTIMEZONE
BEGIN:VEVENT
DTSTART;TZID=Europe/Paris:20180608T180000
DTEND;TZID=Europe/Paris:20180608T193000
DTSTAMP:20260422T033500
CREATED:20180413T114931Z
LAST-MODIFIED:20180507T125631Z
UID:1070-1528480800-1528486200@edmdlethor.com
SUMMARY:Spectacle Projet départemental Chorales\, École des Jardins 18h
DESCRIPTION:Le Projet départemental Chorales se produira le 8 Juin à 18h à l’école des jardins en partenariat avec les écoles du Thor.\nDirection François Bérody
URL:https://edmdlethor.com/evenement/concert-projet-departemental-chorales-ecole-des-jardins-18h/
LOCATION:Ecole des Jardins Le Thor\, 270 Chemin des Estourans\, 84250 Le Thor\, Le Thor\, France
CATEGORIES:Audition,Rencontre Musicale,spectacle
END:VEVENT
BEGIN:VEVENT
DTSTART;TZID=Europe/Paris:20180621T170000
DTEND;TZID=Europe/Paris:20180621T213000
DTSTAMP:20260422T033500
CREATED:20180413T210112Z
LAST-MODIFIED:20180413T210143Z
UID:1078-1529600400-1529616600@edmdlethor.com
SUMMARY:21 Juin Fête de la musique 17h/21h Le Thor
DESCRIPTION:Fête de la musique avec la participation des classes de musique et danse de l’école.\n  \n17/20h représentations de différentes classes de musique et de danse en centre ville du Thor \n20h Projet départemental Chorale avec les élèves des écoles et collège du Thor: 300 choristes accompagnés par les musiciens de l’école (direction François Bérody)
URL:https://edmdlethor.com/evenement/21-juin-fete-de-la-musique-17h-21h-le-thor/
LOCATION:Centre Ville\, Le Thor\, 84250
CATEGORIES:Audition,Rencontre Musicale,spectacle
END:VEVENT
BEGIN:VEVENT
DTSTART;TZID=Europe/Paris:20180623T100000
DTEND;TZID=Europe/Paris:20180623T160000
DTSTAMP:20260422T033500
CREATED:20180413T210510Z
LAST-MODIFIED:20180622T161111Z
UID:1080-1529748000-1529769600@edmdlethor.com
SUMMARY:Journée Portes ouvertes et inscriptions 23 Juin 10h/16h École de musique et danse
DESCRIPTION:Journée portes ouvertes.\nPossibilité de se renseigner\, de rencontrer l’équipe enseignante et administrative. \nPossibilité d’assister à certains cours. \nDébut de la période d’inscriptions \nProgramme: \nProgramme pour le 23 juin 2018
URL:https://edmdlethor.com/evenement/journee-portes-ouvertes-et-inscriptions-10h-16h-ecole-de-musique-et-danse/
LOCATION:Ecole départementale de musique et danse du Thor\, Chemin des estourans\, Le Thor\, 84250\, France Métropolitaine
CATEGORIES:Inscriptions,Rencontre Musicale
END:VEVENT
END:VCALENDAR