BEGIN:VCALENDAR
VERSION:2.0
PRODID:-//Ecole Municipale de Musique et de Danse du Thor - ECPv6.15.17.1//NONSGML v1.0//EN
CALSCALE:GREGORIAN
METHOD:PUBLISH
X-WR-CALNAME:Ecole Municipale de Musique et de Danse du Thor
X-ORIGINAL-URL:https://edmdlethor.com
X-WR-CALDESC:Évènements pour Ecole Municipale de Musique et de Danse du Thor
REFRESH-INTERVAL;VALUE=DURATION:PT1H
X-Robots-Tag:noindex
X-PUBLISHED-TTL:PT1H
BEGIN:VTIMEZONE
TZID:Europe/Paris
BEGIN:DAYLIGHT
TZOFFSETFROM:+0100
TZOFFSETTO:+0200
TZNAME:CEST
DTSTART:20150329T010000
END:DAYLIGHT
BEGIN:STANDARD
TZOFFSETFROM:+0200
TZOFFSETTO:+0100
TZNAME:CET
DTSTART:20151025T010000
END:STANDARD
BEGIN:DAYLIGHT
TZOFFSETFROM:+0100
TZOFFSETTO:+0200
TZNAME:CEST
DTSTART:20160327T010000
END:DAYLIGHT
BEGIN:STANDARD
TZOFFSETFROM:+0200
TZOFFSETTO:+0100
TZNAME:CET
DTSTART:20161030T010000
END:STANDARD
BEGIN:DAYLIGHT
TZOFFSETFROM:+0100
TZOFFSETTO:+0200
TZNAME:CEST
DTSTART:20170326T010000
END:DAYLIGHT
BEGIN:STANDARD
TZOFFSETFROM:+0200
TZOFFSETTO:+0100
TZNAME:CET
DTSTART:20171029T010000
END:STANDARD
END:VTIMEZONE
BEGIN:VEVENT
DTSTART;TZID=Europe/Paris:20160509T190000
DTEND;TZID=Europe/Paris:20160509T210000
DTSTAMP:20260423T184022
CREATED:20160425T140827Z
LAST-MODIFIED:20160425T141236Z
UID:723-1462820400-1462827600@edmdlethor.com
SUMMARY:Concert Musiques Actuelles 9 Mai de 19h à 21h Lisle sur Sorgues
DESCRIPTION:Concert de la classe de musiques actuelles de Jacques Berbiguier en collaboration avec l’école de Musique de Lisle sur Sorgues et le Conservatoire d’Avignon.\nClasses de musiques actuelles de Ange Gilles\, Jacques Berbiguier\, Flavie fournier\, Nicolas Adams de 19H à21H dans la cour de l’école.
URL:https://edmdlethor.com/evenement/concert-musiques-actuelles/
LOCATION:Ecole de musique Lisle sur La Sorgue\, 11 avenue du partage des eaux\, Lisle sur la sorgue\, France
CATEGORIES:Audition,Rencontre Musicale,spectacle
END:VEVENT
END:VCALENDAR