BEGIN:VCALENDAR
VERSION:2.0
PRODID:-//Ecole Municipale de Musique et de Danse du Thor - ECPv6.15.17.1//NONSGML v1.0//EN
CALSCALE:GREGORIAN
METHOD:PUBLISH
X-ORIGINAL-URL:https://edmdlethor.com
X-WR-CALDESC:Évènements pour Ecole Municipale de Musique et de Danse du Thor
REFRESH-INTERVAL;VALUE=DURATION:PT1H
X-Robots-Tag:noindex
X-PUBLISHED-TTL:PT1H
BEGIN:VTIMEZONE
TZID:Europe/Paris
BEGIN:DAYLIGHT
TZOFFSETFROM:+0100
TZOFFSETTO:+0200
TZNAME:CEST
DTSTART:20140330T010000
END:DAYLIGHT
BEGIN:STANDARD
TZOFFSETFROM:+0200
TZOFFSETTO:+0100
TZNAME:CET
DTSTART:20141026T010000
END:STANDARD
BEGIN:DAYLIGHT
TZOFFSETFROM:+0100
TZOFFSETTO:+0200
TZNAME:CEST
DTSTART:20150329T010000
END:DAYLIGHT
BEGIN:STANDARD
TZOFFSETFROM:+0200
TZOFFSETTO:+0100
TZNAME:CET
DTSTART:20151025T010000
END:STANDARD
BEGIN:DAYLIGHT
TZOFFSETFROM:+0100
TZOFFSETTO:+0200
TZNAME:CEST
DTSTART:20160327T010000
END:DAYLIGHT
BEGIN:STANDARD
TZOFFSETFROM:+0200
TZOFFSETTO:+0100
TZNAME:CET
DTSTART:20161030T010000
END:STANDARD
END:VTIMEZONE
BEGIN:VEVENT
DTSTART;TZID=Europe/Paris:20150618T180000
DTEND;TZID=Europe/Paris:20150618T190000
DTSTAMP:20260424T152156
CREATED:20150618T095244Z
LAST-MODIFIED:20150618T095244Z
UID:577-1434650400-1434654000@edmdlethor.com
SUMMARY:Ensemble de Trompettes 22 Juin
DESCRIPTION:Ensemble de Trompettes\nLes éléves de la classe de François Berody se produiront  à l’auditorium du Pontet\nLundi 22 juin à 18h00\, dans le cadre d’un partenariat avec le CRR d’Avignon\nsuite au stage Brass Band.
URL:https://edmdlethor.com/evenement/ensemble-de-trompettes-22-juin/
LOCATION:Auditorium Grand Avignon Le Pontet\, Avenue Guillaume de Fargis\, Le Pontet\, 84130\, France
CATEGORIES:Rencontre Musicale,spectacle
END:VEVENT
END:VCALENDAR