BEGIN:VCALENDAR
VERSION:2.0
PRODID:-//Ecole Municipale de Musique et de Danse du Thor - ECPv6.15.17.1//NONSGML v1.0//EN
CALSCALE:GREGORIAN
METHOD:PUBLISH
X-ORIGINAL-URL:https://edmdlethor.com
X-WR-CALDESC:Évènements pour Ecole Municipale de Musique et de Danse du Thor
REFRESH-INTERVAL;VALUE=DURATION:PT1H
X-Robots-Tag:noindex
X-PUBLISHED-TTL:PT1H
BEGIN:VTIMEZONE
TZID:Europe/Paris
BEGIN:DAYLIGHT
TZOFFSETFROM:+0100
TZOFFSETTO:+0200
TZNAME:CEST
DTSTART:20140330T010000
END:DAYLIGHT
BEGIN:STANDARD
TZOFFSETFROM:+0200
TZOFFSETTO:+0100
TZNAME:CET
DTSTART:20141026T010000
END:STANDARD
BEGIN:DAYLIGHT
TZOFFSETFROM:+0100
TZOFFSETTO:+0200
TZNAME:CEST
DTSTART:20150329T010000
END:DAYLIGHT
BEGIN:STANDARD
TZOFFSETFROM:+0200
TZOFFSETTO:+0100
TZNAME:CET
DTSTART:20151025T010000
END:STANDARD
BEGIN:DAYLIGHT
TZOFFSETFROM:+0100
TZOFFSETTO:+0200
TZNAME:CEST
DTSTART:20160327T010000
END:DAYLIGHT
BEGIN:STANDARD
TZOFFSETFROM:+0200
TZOFFSETTO:+0100
TZNAME:CET
DTSTART:20161030T010000
END:STANDARD
END:VTIMEZONE
BEGIN:VEVENT
DTSTART;TZID=Europe/Paris:20150521T190000
DTEND;TZID=Europe/Paris:20150521T203000
DTSTAMP:20260424T164755
CREATED:20150514T135415Z
LAST-MODIFIED:20150514T135618Z
UID:491-1432234800-1432240200@edmdlethor.com
SUMMARY:Projet Départemental Harpe (Villeneuve\, Bedarrides\, Le Thor) Jeudi 21 Mai 19h
DESCRIPTION:Rencontre des Élèves des classes de Harpe des écoles de Villeneuve\, Bédarrides et Le Thor.\nConte Musical « la princesse et le ramoneur » de Claude Henry Joubert. \nDirection musicale Laure Bertrand et Allison Nosal \n  \n \n 
URL:https://edmdlethor.com/evenement/projet-departemental-harpe-villeneuve-bedarrides-le-thor-jeudi-21-mai-19h/
LOCATION:Salle Frederic Mistral\, Villeneuve Lez Avignons\, France
CATEGORIES:Rencontre Musicale,spectacle
END:VEVENT
END:VCALENDAR