BEGIN:VCALENDAR
VERSION:2.0
PRODID:-//Ecole Municipale de Musique et de Danse du Thor - ECPv6.15.17.1//NONSGML v1.0//EN
CALSCALE:GREGORIAN
METHOD:PUBLISH
X-WR-CALNAME:Ecole Municipale de Musique et de Danse du Thor
X-ORIGINAL-URL:https://edmdlethor.com
X-WR-CALDESC:Évènements pour Ecole Municipale de Musique et de Danse du Thor
REFRESH-INTERVAL;VALUE=DURATION:PT1H
X-Robots-Tag:noindex
X-PUBLISHED-TTL:PT1H
BEGIN:VTIMEZONE
TZID:Europe/Paris
BEGIN:DAYLIGHT
TZOFFSETFROM:+0100
TZOFFSETTO:+0200
TZNAME:CEST
DTSTART:20140330T010000
END:DAYLIGHT
BEGIN:STANDARD
TZOFFSETFROM:+0200
TZOFFSETTO:+0100
TZNAME:CET
DTSTART:20141026T010000
END:STANDARD
BEGIN:DAYLIGHT
TZOFFSETFROM:+0100
TZOFFSETTO:+0200
TZNAME:CEST
DTSTART:20150329T010000
END:DAYLIGHT
BEGIN:STANDARD
TZOFFSETFROM:+0200
TZOFFSETTO:+0100
TZNAME:CET
DTSTART:20151025T010000
END:STANDARD
BEGIN:DAYLIGHT
TZOFFSETFROM:+0100
TZOFFSETTO:+0200
TZNAME:CEST
DTSTART:20160327T010000
END:DAYLIGHT
BEGIN:STANDARD
TZOFFSETFROM:+0200
TZOFFSETTO:+0100
TZNAME:CET
DTSTART:20161030T010000
END:STANDARD
END:VTIMEZONE
BEGIN:VEVENT
DTSTART;TZID=Europe/Paris:20150126T183000
DTEND;TZID=Europe/Paris:20150126T203000
DTSTAMP:20260424T220656
CREATED:20141104T105826Z
LAST-MODIFIED:20141125T163816Z
UID:434-1422297000-1422304200@edmdlethor.com
SUMMARY:Rencontre des Classes de Musiques Actuelles Isle Sur Sorgues/Le Thor
DESCRIPTION:Rencontre des classes de musiques actuelles de Jacques Berbiguier et Nicolas Adams à la Salle de la bonne entente. \nDébut de L’audition 18h30.
URL:https://edmdlethor.com/evenement/rencontre-des-classes-de-musiques-actuelles-isle-sur-sorguesle-thor/
LOCATION:!salle de la bonne entente\, L'Isle-sur-la-Sorgue\, 84800
CATEGORIES:Rencontre Musicale,spectacle
END:VEVENT
END:VCALENDAR