BEGIN:VCALENDAR
VERSION:2.0
PRODID:-//Ecole Municipale de Musique et de Danse du Thor - ECPv6.15.17.1//NONSGML v1.0//EN
CALSCALE:GREGORIAN
METHOD:PUBLISH
X-WR-CALNAME:Ecole Municipale de Musique et de Danse du Thor
X-ORIGINAL-URL:https://edmdlethor.com
X-WR-CALDESC:Évènements pour Ecole Municipale de Musique et de Danse du Thor
REFRESH-INTERVAL;VALUE=DURATION:PT1H
X-Robots-Tag:noindex
X-PUBLISHED-TTL:PT1H
BEGIN:VTIMEZONE
TZID:Europe/Paris
BEGIN:DAYLIGHT
TZOFFSETFROM:+0100
TZOFFSETTO:+0200
TZNAME:CEST
DTSTART:20230326T010000
END:DAYLIGHT
BEGIN:STANDARD
TZOFFSETFROM:+0200
TZOFFSETTO:+0100
TZNAME:CET
DTSTART:20231029T010000
END:STANDARD
BEGIN:DAYLIGHT
TZOFFSETFROM:+0100
TZOFFSETTO:+0200
TZNAME:CEST
DTSTART:20240331T010000
END:DAYLIGHT
BEGIN:STANDARD
TZOFFSETFROM:+0200
TZOFFSETTO:+0100
TZNAME:CET
DTSTART:20241027T010000
END:STANDARD
BEGIN:DAYLIGHT
TZOFFSETFROM:+0100
TZOFFSETTO:+0200
TZNAME:CEST
DTSTART:20250330T010000
END:DAYLIGHT
BEGIN:STANDARD
TZOFFSETFROM:+0200
TZOFFSETTO:+0100
TZNAME:CET
DTSTART:20251026T010000
END:STANDARD
END:VTIMEZONE
BEGIN:VEVENT
DTSTART;TZID=Europe/Paris:20240403T080000
DTEND;TZID=Europe/Paris:20240630T170000
DTSTAMP:20260421T150839
CREATED:20240403T111452Z
LAST-MODIFIED:20240403T111524Z
UID:3172-1712131200-1719766800@edmdlethor.com
SUMMARY:Le petit Journal de l'école
DESCRIPTION:Le petit journal de l’école de musique et de danse\, les News\nLe petit journal 2024
URL:https://edmdlethor.com/evenement/le-petit-journal-de-lecole/
LOCATION:Ecole départementale de musique et danse du Thor\, Chemin des estourans\, Le Thor\, 84250\, France Métropolitaine
CATEGORIES:Information
END:VEVENT
BEGIN:VEVENT
DTSTART;TZID=Europe/Paris:20240530T080000
DTEND;TZID=Europe/Paris:20240630T170000
DTSTAMP:20260421T150839
CREATED:20240530T145206Z
LAST-MODIFIED:20240530T145337Z
UID:3188-1717056000-1719766800@edmdlethor.com
SUMMARY:Petit Journal de l'école (Mai Juin) "les News"
DESCRIPTION:Petit Journal de l’école\, les événements…
URL:https://edmdlethor.com/evenement/petit-journal-de-lecole-mai-juin-les-news/
CATEGORIES:Information
END:VEVENT
BEGIN:VEVENT
DTSTART;TZID=Europe/Paris:20240609T080000
DTEND;TZID=Europe/Paris:20241026T170000
DTSTAMP:20260421T150839
CREATED:20240609T161715Z
LAST-MODIFIED:20240623T165144Z
UID:3299-1717920000-1729962000@edmdlethor.com
SUMMARY:Nouveauté 2024/2025 Parcours Découverte
DESCRIPTION:Le parcours découverte instrumental\nLe parcours découverte instrumentale est une initiation musicale qui\npropose\, par session de 5 semaines\, de découvrir et pratiquer 5\ninstruments: \nHarpe\, violon\, flûte traversière\, saxophone/clarinette\,\ntrompette adaptés aux « petites mains » associée à de l’éveil musical\, 1\nfois par semaine 45mn (groupe de 2 à 4 enfants par instrument). \nLa dernière session permettra de débuter de la pratique de l’instrument choisi\, en cours individuel de 20mn. \nDécouverte instrumentale Affiche
URL:https://edmdlethor.com/evenement/nouveaute-2024-2025-parcours-decouverte/
LOCATION:Ecole départementale de musique et danse du Thor\, Chemin des estourans\, Le Thor\, 84250\, France Métropolitaine
CATEGORIES:Information
END:VEVENT
BEGIN:VEVENT
DTSTART;TZID=Europe/Paris:20240610T080000
DTEND;TZID=Europe/Paris:20241019T170000
DTSTAMP:20260421T150839
CREATED:20240610T124629Z
LAST-MODIFIED:20240623T165707Z
UID:3324-1718006400-1729357200@edmdlethor.com
SUMMARY:Nouveauté 2024/2025- Wellness/pilates
DESCRIPTION:Wellness et pilates\nLe cours de Wellness est une discipline douce aux multiples bienfaits d’assouplissement\, de renforcement et de barre au sol. \nLe cours aura lieule mercredi soir à 19h et s’adresse aux adultes. \nIl sera dispensé par Coraldine Zaina \nAffiche cours Wellness
URL:https://edmdlethor.com/evenement/nouveaute-2024-2025-wellness-pilates/
LOCATION:Ecole départementale de musique et danse du Thor\, Chemin des estourans\, Le Thor\, 84250\, France Métropolitaine
CATEGORIES:Information
END:VEVENT
BEGIN:VEVENT
DTSTART;TZID=Europe/Paris:20240614T170000
DTEND;TZID=Europe/Paris:20240614T193000
DTSTAMP:20260421T150839
CREATED:20240227T093458Z
LAST-MODIFIED:20240227T095043Z
UID:3158-1718384400-1718393400@edmdlethor.com
SUMMARY:Spectacle Fête musique - Parc Estourans 17h
DESCRIPTION:Audition des élèves musiciens et danseurs de l’école départementale de musique et de danse. A partir de 17h \nAudition suivie du spectacle organisé par le comité des fêtes du Thor à partir de 19h \n 
URL:https://edmdlethor.com/evenement/spectacle-fete-musique-parc-estourans/
LOCATION:Parc des Estourans Le Thor\, Chemin des Estourans 84250 Le Thor\, Le Thor\, Vaucluse\, 84250\, France
CATEGORIES:Audition,Rencontre Musicale,spectacle
END:VEVENT
END:VCALENDAR