BEGIN:VCALENDAR
VERSION:2.0
PRODID:-//Ecole Municipale de Musique et de Danse du Thor - ECPv6.15.17.1//NONSGML v1.0//EN
CALSCALE:GREGORIAN
METHOD:PUBLISH
X-ORIGINAL-URL:https://edmdlethor.com
X-WR-CALDESC:Évènements pour Ecole Municipale de Musique et de Danse du Thor
REFRESH-INTERVAL;VALUE=DURATION:PT1H
X-Robots-Tag:noindex
X-PUBLISHED-TTL:PT1H
BEGIN:VTIMEZONE
TZID:Europe/Paris
BEGIN:DAYLIGHT
TZOFFSETFROM:+0100
TZOFFSETTO:+0200
TZNAME:CEST
DTSTART:20220327T010000
END:DAYLIGHT
BEGIN:STANDARD
TZOFFSETFROM:+0200
TZOFFSETTO:+0100
TZNAME:CET
DTSTART:20221030T010000
END:STANDARD
BEGIN:DAYLIGHT
TZOFFSETFROM:+0100
TZOFFSETTO:+0200
TZNAME:CEST
DTSTART:20230326T010000
END:DAYLIGHT
BEGIN:STANDARD
TZOFFSETFROM:+0200
TZOFFSETTO:+0100
TZNAME:CET
DTSTART:20231029T010000
END:STANDARD
BEGIN:DAYLIGHT
TZOFFSETFROM:+0100
TZOFFSETTO:+0200
TZNAME:CEST
DTSTART:20240331T010000
END:DAYLIGHT
BEGIN:STANDARD
TZOFFSETFROM:+0200
TZOFFSETTO:+0100
TZNAME:CET
DTSTART:20241027T010000
END:STANDARD
END:VTIMEZONE
BEGIN:VEVENT
DTSTART;TZID=Europe/Paris:20230612T190000
DTEND;TZID=Europe/Paris:20230612T210000
DTSTAMP:20260422T093215
CREATED:20230611T161552Z
LAST-MODIFIED:20230611T161552Z
UID:2844-1686596400-1686603600@edmdlethor.com
SUMMARY:Musiques Actuelles Robion 12 Juin 19h
DESCRIPTION:Représentation des ensembles musiques actuelles au théâtre de verdure de Robion\n19h entrée libre \nClasses de Jacques Berbiguier \n \n 
URL:https://edmdlethor.com/evenement/musiques-actuelles-robion-12-juin-19h/
LOCATION:Theatre verdure Robion\, 142 Av. du Luberon\, 84440 Robion\, robion\, vaucluse\, France
CATEGORIES:Audition,spectacle
END:VEVENT
END:VCALENDAR