BEGIN:VCALENDAR
VERSION:2.0
PRODID:-//Ecole Municipale de Musique et de Danse du Thor - ECPv6.15.17.1//NONSGML v1.0//EN
CALSCALE:GREGORIAN
METHOD:PUBLISH
X-WR-CALNAME:Ecole Municipale de Musique et de Danse du Thor
X-ORIGINAL-URL:https://edmdlethor.com
X-WR-CALDESC:Évènements pour Ecole Municipale de Musique et de Danse du Thor
REFRESH-INTERVAL;VALUE=DURATION:PT1H
X-Robots-Tag:noindex
X-PUBLISHED-TTL:PT1H
BEGIN:VTIMEZONE
TZID:Europe/Paris
BEGIN:DAYLIGHT
TZOFFSETFROM:+0100
TZOFFSETTO:+0200
TZNAME:CEST
DTSTART:20210328T010000
END:DAYLIGHT
BEGIN:STANDARD
TZOFFSETFROM:+0200
TZOFFSETTO:+0100
TZNAME:CET
DTSTART:20211031T010000
END:STANDARD
BEGIN:DAYLIGHT
TZOFFSETFROM:+0100
TZOFFSETTO:+0200
TZNAME:CEST
DTSTART:20220327T010000
END:DAYLIGHT
BEGIN:STANDARD
TZOFFSETFROM:+0200
TZOFFSETTO:+0100
TZNAME:CET
DTSTART:20221030T010000
END:STANDARD
BEGIN:DAYLIGHT
TZOFFSETFROM:+0100
TZOFFSETTO:+0200
TZNAME:CEST
DTSTART:20230326T010000
END:DAYLIGHT
BEGIN:STANDARD
TZOFFSETFROM:+0200
TZOFFSETTO:+0100
TZNAME:CET
DTSTART:20231029T010000
END:STANDARD
END:VTIMEZONE
BEGIN:VEVENT
DTSTART;TZID=Europe/Paris:20220627T090000
DTEND;TZID=Europe/Paris:20220708T170000
DTSTAMP:20260423T030316
CREATED:20220520T124202Z
LAST-MODIFIED:20220520T124218Z
UID:2510-1656320400-1657299600@edmdlethor.com
SUMMARY:Inscriptions 2022/2023
DESCRIPTION:Les inscriptions auront lieu fin Juin puis début septembre.\nRendez vous sur cette page pour les détails:\nInscriptions et renseignements
URL:https://edmdlethor.com/evenement/inscriptions-2022-2023/
LOCATION:Ecole départementale de musique et danse du Thor\, Chemin des estourans\, Le Thor\, 84250\, France Métropolitaine
CATEGORIES:Inscriptions
END:VEVENT
END:VCALENDAR