BEGIN:VCALENDAR
VERSION:2.0
PRODID:-//Ecole Municipale de Musique et de Danse du Thor - ECPv6.15.17.1//NONSGML v1.0//EN
CALSCALE:GREGORIAN
METHOD:PUBLISH
X-WR-CALNAME:Ecole Municipale de Musique et de Danse du Thor
X-ORIGINAL-URL:https://edmdlethor.com
X-WR-CALDESC:Évènements pour Ecole Municipale de Musique et de Danse du Thor
REFRESH-INTERVAL;VALUE=DURATION:PT1H
X-Robots-Tag:noindex
X-PUBLISHED-TTL:PT1H
BEGIN:VTIMEZONE
TZID:Europe/Paris
BEGIN:DAYLIGHT
TZOFFSETFROM:+0100
TZOFFSETTO:+0200
TZNAME:CEST
DTSTART:20210328T010000
END:DAYLIGHT
BEGIN:STANDARD
TZOFFSETFROM:+0200
TZOFFSETTO:+0100
TZNAME:CET
DTSTART:20211031T010000
END:STANDARD
BEGIN:DAYLIGHT
TZOFFSETFROM:+0100
TZOFFSETTO:+0200
TZNAME:CEST
DTSTART:20220327T010000
END:DAYLIGHT
BEGIN:STANDARD
TZOFFSETFROM:+0200
TZOFFSETTO:+0100
TZNAME:CET
DTSTART:20221030T010000
END:STANDARD
BEGIN:DAYLIGHT
TZOFFSETFROM:+0100
TZOFFSETTO:+0200
TZNAME:CEST
DTSTART:20230326T010000
END:DAYLIGHT
BEGIN:STANDARD
TZOFFSETFROM:+0200
TZOFFSETTO:+0100
TZNAME:CET
DTSTART:20231029T010000
END:STANDARD
END:VTIMEZONE
BEGIN:VEVENT
DTSTART;TZID=Europe/Paris:20220618T100000
DTEND;TZID=Europe/Paris:20220618T123000
DTSTAMP:20260423T044422
CREATED:20220404T090854Z
LAST-MODIFIED:20220520T122829Z
UID:2455-1655546400-1655555400@edmdlethor.com
SUMMARY:Matinée Portes Ouvertes 18 Juin
DESCRIPTION:Matinée portes ouvertes à l’école de musique et de danse.\nAudition des ensembles\, rencontre avec les enseignants musique et danse\, essais et informations. \nEntrée gratuite de 10h à 12.30 à l’école départementale de musique et de danse. \n9h30-11h atelier harpe avec nos élèves\n11h30-12h30 répétition de l’harmonie départementale\n10h30-12h répétition élèves de la chorale\n10h-12h danse jazz\n10h30-12h violon répétition\n9h30-11h30 répétition guitares\n \npour les essais\n11h-12h essais harpe\n9h30-11h essais clarinette saxo\n9h30-10h30 essais piano\n10h-12h essais danse jazz\n10h30-12h essais violon\n10h-11h30 essais guitare\n \nPour tous les autres instruments absents (chant\, percussions\, danse classique\, trompette)\, les personnes devront appeler le secrétariat (0490338636) pour prendre rendez vous avec les professeurs…
URL:https://edmdlethor.com/evenement/matinee-portes-ouvertes-18-juin/
LOCATION:Ecole départementale de musique et danse du Thor\, Chemin des estourans\, Le Thor\, 84250\, France Métropolitaine
CATEGORIES:Audition,Information,Inscriptions
END:VEVENT
END:VCALENDAR