BEGIN:VCALENDAR
VERSION:2.0
PRODID:-//Ecole Municipale de Musique et de Danse du Thor - ECPv6.15.17.1//NONSGML v1.0//EN
CALSCALE:GREGORIAN
METHOD:PUBLISH
X-WR-CALNAME:Ecole Municipale de Musique et de Danse du Thor
X-ORIGINAL-URL:https://edmdlethor.com
X-WR-CALDESC:Évènements pour Ecole Municipale de Musique et de Danse du Thor
REFRESH-INTERVAL;VALUE=DURATION:PT1H
X-Robots-Tag:noindex
X-PUBLISHED-TTL:PT1H
BEGIN:VTIMEZONE
TZID:Europe/Paris
BEGIN:DAYLIGHT
TZOFFSETFROM:+0100
TZOFFSETTO:+0200
TZNAME:CEST
DTSTART:20210328T010000
END:DAYLIGHT
BEGIN:STANDARD
TZOFFSETFROM:+0200
TZOFFSETTO:+0100
TZNAME:CET
DTSTART:20211031T010000
END:STANDARD
BEGIN:DAYLIGHT
TZOFFSETFROM:+0100
TZOFFSETTO:+0200
TZNAME:CEST
DTSTART:20220327T010000
END:DAYLIGHT
BEGIN:STANDARD
TZOFFSETFROM:+0200
TZOFFSETTO:+0100
TZNAME:CET
DTSTART:20221030T010000
END:STANDARD
BEGIN:DAYLIGHT
TZOFFSETFROM:+0100
TZOFFSETTO:+0200
TZNAME:CEST
DTSTART:20230326T010000
END:DAYLIGHT
BEGIN:STANDARD
TZOFFSETFROM:+0200
TZOFFSETTO:+0100
TZNAME:CET
DTSTART:20231029T010000
END:STANDARD
END:VTIMEZONE
BEGIN:VEVENT
DTSTART;TZID=Europe/Paris:20220617T173000
DTEND;TZID=Europe/Paris:20220617T190000
DTSTAMP:20260423T044425
CREATED:20220404T090206Z
LAST-MODIFIED:20220404T090221Z
UID:2453-1655487000-1655492400@edmdlethor.com
SUMMARY:Fête de la musique 17 Juin
DESCRIPTION:Fête de la musique au Thor\nAvec les ensembles de l’école de musique et de danse à 17h45 jusqu’à 19h15 en première partie du groupe de la soirée. \nEntrée gratuite au Parc des Estourans
URL:https://edmdlethor.com/evenement/fete-de-la-musique-17-juin/
LOCATION:Parc des Estourans Le Thor\, Chemin des Estourans 84250 Le Thor\, Le Thor\, Vaucluse\, 84250\, France
CATEGORIES:Audition,spectacle
END:VEVENT
END:VCALENDAR