BEGIN:VCALENDAR
VERSION:2.0
PRODID:-//Ecole Municipale de Musique et de Danse du Thor - ECPv6.15.17.1//NONSGML v1.0//EN
CALSCALE:GREGORIAN
METHOD:PUBLISH
X-WR-CALNAME:Ecole Municipale de Musique et de Danse du Thor
X-ORIGINAL-URL:https://edmdlethor.com
X-WR-CALDESC:Évènements pour Ecole Municipale de Musique et de Danse du Thor
REFRESH-INTERVAL;VALUE=DURATION:PT1H
X-Robots-Tag:noindex
X-PUBLISHED-TTL:PT1H
BEGIN:VTIMEZONE
TZID:Europe/Paris
BEGIN:DAYLIGHT
TZOFFSETFROM:+0100
TZOFFSETTO:+0200
TZNAME:CEST
DTSTART:20190331T010000
END:DAYLIGHT
BEGIN:STANDARD
TZOFFSETFROM:+0200
TZOFFSETTO:+0100
TZNAME:CET
DTSTART:20191027T010000
END:STANDARD
BEGIN:DAYLIGHT
TZOFFSETFROM:+0100
TZOFFSETTO:+0200
TZNAME:CEST
DTSTART:20200329T010000
END:DAYLIGHT
BEGIN:STANDARD
TZOFFSETFROM:+0200
TZOFFSETTO:+0100
TZNAME:CET
DTSTART:20201025T010000
END:STANDARD
BEGIN:DAYLIGHT
TZOFFSETFROM:+0100
TZOFFSETTO:+0200
TZNAME:CEST
DTSTART:20210328T010000
END:DAYLIGHT
BEGIN:STANDARD
TZOFFSETFROM:+0200
TZOFFSETTO:+0100
TZNAME:CET
DTSTART:20211031T010000
END:STANDARD
END:VTIMEZONE
BEGIN:VEVENT
DTSTART;TZID=Europe/Paris:20201105T080000
DTEND;TZID=Europe/Paris:20201219T170000
DTSTAMP:20260424T101717
CREATED:20201030T091513Z
LAST-MODIFIED:20201203T140411Z
UID:1925-1604563200-1608397200@edmdlethor.com
SUMMARY:Confinement Novembre Décembre 2020 et reprise des cours
DESCRIPTION:Les cours de l’école départementale de musique et de danse du Thor ont lieu en « distanciel » sous la forme de cours « Visio » et autres moyens numériques. \nL’accueil administratif est toujours possible par téléphone (0490338636) aux horaires suivants: \nLundi 14h/19h\, Mardi et Jeudi 14h30/18h30\, Mercredi 9h/18h30\, Vendredi 14h30 \nReprise des cours le 15 décembre\nSuite à l’allocution présidentielle\, nous avons le plaisir de vous annoncer la réouverture de l’établissement le mardi 15 décembre (sous réserve d’éventuelles modifications du décret  et autres interventions présidentielle). \nLes mesures sanitaires qui ont été mises en place en septembre resteront en vigueur à l’ouverture de l’établissement\, auxquelles il conviendra d’ajouter le port du masque pour les élèves à partir de 6 ans\nLa reprise aura lieu en présentiel pour l’intégralité des cours de musique et de danse à l’exception des cours de chant et des cours de danse adultes. \n \n  \nLettre du président de l’École départementale de Musique et de Danse aux élèves et parents d’élèves:\nLettre du Président de l’École départementale aux élèves et parents d’élèves\n  \n 
URL:https://edmdlethor.com/evenement/periode-de-confinement-novembre-2020/
LOCATION:Ecole départementale de musique et danse du Thor\, Chemin des estourans\, Le Thor\, 84250\, France Métropolitaine
CATEGORIES:Information
END:VEVENT
BEGIN:VEVENT
DTSTART;TZID=Europe/Paris:20201201T080000
DTEND;TZID=Europe/Paris:20201224T170000
DTSTAMP:20260424T101717
CREATED:20201201T222908Z
LAST-MODIFIED:20201201T222908Z
UID:2043-1606809600-1608829200@edmdlethor.com
SUMMARY:Calendrier de Noël 2020
DESCRIPTION:Retrouvez le calendrier de Noel de l’école de musique et de danse. \nChaque jour une nouvelle surprise…jusqu’à Noël \nSuivez ce lien !
URL:https://edmdlethor.com/evenement/calendrier-de-noel-2020/
CATEGORIES:Information
END:VEVENT
END:VCALENDAR