BEGIN:VCALENDAR
VERSION:2.0
PRODID:-//Ecole Municipale de Musique et de Danse du Thor - ECPv6.15.17.1//NONSGML v1.0//EN
CALSCALE:GREGORIAN
METHOD:PUBLISH
X-ORIGINAL-URL:https://edmdlethor.com
X-WR-CALDESC:Évènements pour Ecole Municipale de Musique et de Danse du Thor
REFRESH-INTERVAL;VALUE=DURATION:PT1H
X-Robots-Tag:noindex
X-PUBLISHED-TTL:PT1H
BEGIN:VTIMEZONE
TZID:Europe/Paris
BEGIN:DAYLIGHT
TZOFFSETFROM:+0100
TZOFFSETTO:+0200
TZNAME:CEST
DTSTART:20190331T010000
END:DAYLIGHT
BEGIN:STANDARD
TZOFFSETFROM:+0200
TZOFFSETTO:+0100
TZNAME:CET
DTSTART:20191027T010000
END:STANDARD
BEGIN:DAYLIGHT
TZOFFSETFROM:+0100
TZOFFSETTO:+0200
TZNAME:CEST
DTSTART:20200329T010000
END:DAYLIGHT
BEGIN:STANDARD
TZOFFSETFROM:+0200
TZOFFSETTO:+0100
TZNAME:CET
DTSTART:20201025T010000
END:STANDARD
BEGIN:DAYLIGHT
TZOFFSETFROM:+0100
TZOFFSETTO:+0200
TZNAME:CEST
DTSTART:20210328T010000
END:DAYLIGHT
BEGIN:STANDARD
TZOFFSETFROM:+0200
TZOFFSETTO:+0100
TZNAME:CET
DTSTART:20211031T010000
END:STANDARD
END:VTIMEZONE
BEGIN:VEVENT
DTSTART;TZID=Europe/Paris:20200118T150000
DTEND;TZID=Europe/Paris:20200118T170000
DTSTAMP:20260425T021932
CREATED:20200117T150534Z
LAST-MODIFIED:20200117T150534Z
UID:1448-1579359600-1579366800@edmdlethor.com
SUMMARY:Représentation Piano et Danse Maison de Retraite Saint Saturnin 18 Janvier
DESCRIPTION:Représentation des classes de piano et de danse de l’école du Thor à La Maison de retraite de Saint Saturnin les Avignon. \nClasses de Daniéle Zopounidis\, Valentina Dimova\, et Jocelyn Cabarcos (Danse Classique). \nRdv Eléves à 14.30 sur Place
URL:https://edmdlethor.com/evenement/representation-piano-et-danse-maison-de-retraite-saint-saturnin-18-janvier/
LOCATION:Maison de Retraite Saint Saturnin\, 259 Chemin de la Forêt\, Saint-Saturnin-lès-Avignon\, 84450\, France
END:VEVENT
END:VCALENDAR